BEGIN:VCALENDAR
VERSION:2.0
PRODID:-//Stamm Konradin Offenburg - ECPv6.15.18//NONSGML v1.0//EN
CALSCALE:GREGORIAN
METHOD:PUBLISH
X-WR-CALNAME:Stamm Konradin Offenburg
X-ORIGINAL-URL:https://stamm-konradin.de
X-WR-CALDESC:Veranstaltungen für Stamm Konradin Offenburg
REFRESH-INTERVAL;VALUE=DURATION:PT1H
X-Robots-Tag:noindex
X-PUBLISHED-TTL:PT1H
BEGIN:VTIMEZONE
TZID:UTC
BEGIN:STANDARD
TZOFFSETFROM:+0000
TZOFFSETTO:+0000
TZNAME:UTC
DTSTART:20210101T000000
END:STANDARD
END:VTIMEZONE
BEGIN:VEVENT
DTSTART;VALUE=DATE:20220801
DTEND;VALUE=DATE:20220815
DTSTAMP:20260426T035300
CREATED:20211128T131600Z
LAST-MODIFIED:20220204T175301Z
UID:4676-1659312000-1660521599@stamm-konradin.de
SUMMARY:Sommerlager 2022
DESCRIPTION:
URL:https://stamm-konradin.de/event/sommerlager-2022/
LOCATION:Naturns\, 39025 Autonome Provinz Bozen - Südtirol\, Italien
END:VEVENT
END:VCALENDAR