BEGIN:VCALENDAR
VERSION:2.0
PRODID:-//Stamm Konradin Offenburg - ECPv6.15.18//NONSGML v1.0//EN
CALSCALE:GREGORIAN
METHOD:PUBLISH
X-WR-CALNAME:Stamm Konradin Offenburg
X-ORIGINAL-URL:https://stamm-konradin.de
X-WR-CALDESC:Veranstaltungen für Stamm Konradin Offenburg
REFRESH-INTERVAL;VALUE=DURATION:PT1H
X-Robots-Tag:noindex
X-PUBLISHED-TTL:PT1H
BEGIN:VTIMEZONE
TZID:UTC
BEGIN:STANDARD
TZOFFSETFROM:+0000
TZOFFSETTO:+0000
TZNAME:UTC
DTSTART:20240101T000000
END:STANDARD
END:VTIMEZONE
BEGIN:VEVENT
DTSTART;VALUE=DATE:20250222
DTEND;VALUE=DATE:20250223
DTSTAMP:20260422T050704
CREATED:20230108T171522Z
LAST-MODIFIED:20250108T102903Z
UID:4854-1740182400-1740268799@stamm-konradin.de
SUMMARY:Thinking Day
DESCRIPTION:Was ist der Thinking Day? \nInfomiere dich hier -> https://de.wikipedia.org/wiki/Thinking_Day \nMehr Infos dazu in der Gruppenstunde.
URL:https://stamm-konradin.de/event/thinking-day/
END:VEVENT
END:VCALENDAR