BEGIN:VCALENDAR
VERSION:2.0
PRODID:-//Stamm Konradin Offenburg - ECPv6.15.18//NONSGML v1.0//EN
CALSCALE:GREGORIAN
METHOD:PUBLISH
X-WR-CALNAME:Stamm Konradin Offenburg
X-ORIGINAL-URL:https://stamm-konradin.de
X-WR-CALDESC:Veranstaltungen für Stamm Konradin Offenburg
REFRESH-INTERVAL;VALUE=DURATION:PT1H
X-Robots-Tag:noindex
X-PUBLISHED-TTL:PT1H
BEGIN:VTIMEZONE
TZID:UTC
BEGIN:STANDARD
TZOFFSETFROM:+0000
TZOFFSETTO:+0000
TZNAME:UTC
DTSTART:20250101T000000
END:STANDARD
END:VTIMEZONE
BEGIN:VEVENT
DTSTART;VALUE=DATE:20260501
DTEND;VALUE=DATE:20260502
DTSTAMP:20260421T074653
CREATED:20211128T130559Z
LAST-MODIFIED:20251214T174623Z
UID:4662-1777593600-1777679999@stamm-konradin.de
SUMMARY:Maihock Kreuzebene
DESCRIPTION:
URL:https://stamm-konradin.de/event/maihock-kreuzebene/
LOCATION:Kreuzebene
END:VEVENT
BEGIN:VEVENT
DTSTART;VALUE=DATE:20260516
DTEND;VALUE=DATE:20260517
DTSTAMP:20260421T074653
CREATED:20230108T170953Z
LAST-MODIFIED:20260322T100047Z
UID:4850-1778889600-1778975999@stamm-konradin.de
SUMMARY:Outdoor-Aktion
DESCRIPTION:
URL:https://stamm-konradin.de/event/fruehlingsfeuer-2023/
END:VEVENT
END:VCALENDAR