BEGIN:VCALENDAR
VERSION:2.0
PRODID:-//Stamm Konradin Offenburg - ECPv6.15.18//NONSGML v1.0//EN
CALSCALE:GREGORIAN
METHOD:PUBLISH
X-WR-CALNAME:Stamm Konradin Offenburg
X-ORIGINAL-URL:https://stamm-konradin.de
X-WR-CALDESC:Veranstaltungen für Stamm Konradin Offenburg
REFRESH-INTERVAL;VALUE=DURATION:PT1H
X-Robots-Tag:noindex
X-PUBLISHED-TTL:PT1H
BEGIN:VTIMEZONE
TZID:UTC
BEGIN:STANDARD
TZOFFSETFROM:+0000
TZOFFSETTO:+0000
TZNAME:UTC
DTSTART:20250101T000000
END:STANDARD
END:VTIMEZONE
BEGIN:VEVENT
DTSTART;VALUE=DATE:20261121
DTEND;VALUE=DATE:20261122
DTSTAMP:20260421T153455
CREATED:20211128T132359Z
LAST-MODIFIED:20251214T175403Z
UID:4683-1795219200-1795305599@stamm-konradin.de
SUMMARY:Bunter Abend / Elternabend 2026
DESCRIPTION:
URL:https://stamm-konradin.de/event/bunter-abend-elternabend-2022/
END:VEVENT
END:VCALENDAR